BEGIN:VCALENDAR
VERSION:2.0
PRODID:-//Advansta Inc. - ECPv4.0.2//NONSGML v1.0//EN
CALSCALE:GREGORIAN
METHOD:PUBLISH
X-WR-CALNAME:Advansta Inc.
X-ORIGINAL-URL:https://advansta.com
X-WR-CALDESC:Events for Advansta Inc.
BEGIN:VEVENT
DTSTART;TZID="UTC+0":20140630T080000
DTEND;TZID="UTC+0":20161030T170000
DTSTAMP:20260421T155554
CREATED:20140701T002032
LAST-MODIFIED:20160630T025241
UID:268-1404115200-1477846800@advansta.com
SUMMARY:New IR Multicolor Western Blot Kits
DESCRIPTION:New Near-Infrared (IR) Fluorescent Western Blotting Kits\nAdvansta Inc. announces the launch of new Near-IR Fluorescent Western Blotting Kits\nNew Multicolor Fluorescence Western Blotting Kits Allow Near-IR Fluorescent Detection\nMENLO PARK\, California - June\, 2014 - Advansta Inc. announces the addition of two new kits to its multicolor fluorescence (MCF) line of Western blotting kits. Advansta’s MCF and MCF-IR kits allow simultaneous detection of two proteins for improved efficiency and increased accuracy. Researchers save time and money compared to chemiluminescence detection by running one blot instead of two\, and by avoiding the need to strip and reprobe chemiluminescent blots. Because two proteins are imaged on the same blot\, more accurate comparisons of protein levels are possible than when comparing two independent experiments or stripped and reprobed blots.\n\nAll kits include blocking and washing buffers\, labeled secondary antibodies\, and pre-cut low-autofluorescence membranes for 10 experiments\, as well as quenching sheets for optimal imaging. Choose the WesternBright MCF kit for imaging systems compatible with visible fluorescence or the MCF-IR kits for systems compatible with IR700 and IR800. These kits provide researchers a convenient workflow solution to their fluorescent Western blotting needs. Learn more about Advansta's WesternBright MCF and MCF-IR kits here.\nAbout Advansta\nFounded in 2005 and headquartered in Menlo Park\, California\, Advansta Inc. provides a wide range of products and reagents to simplify\, accelerate and drive proteomic research.
URL:https://advansta.com/event/new-ir-multicolor-western-blot-kits/
CATEGORIES:events
END:VEVENT
END:VCALENDAR