BEGIN:VCALENDAR
VERSION:2.0
PRODID:-//Advansta Inc. - ECPv4.0.2//NONSGML v1.0//EN
CALSCALE:GREGORIAN
METHOD:PUBLISH
X-WR-CALNAME:Advansta Inc.
X-ORIGINAL-URL:https://advansta.com
X-WR-CALDESC:Events for Advansta Inc.
BEGIN:VEVENT
DTSTART;TZID="America/Los_Angeles":20140122T080000
DTEND;TZID="America/Los_Angeles":20140122T170000
DTSTAMP:20260421T152208
CREATED:20140123T011814
LAST-MODIFIED:20150518T221134
UID:264-1390377600-1390410000@advansta.com
SUMMARY:New Incubation Trays
DESCRIPTION:Opaque and Transparent Incubation Trays\nAdvansta introduces two new lines of covered Incubation Trays\nAdvansta adds opaque trays for fluorescent applications and transparent trays for colorimetric staining applications\nMENLO PARK\, California - January 16\, 2014 - Advansta Inc. announces the release of two new lines of covered incubation trays; opaque trays for light-sensitive applications and transparent trays for colorimetric staining. Both types of trays are available in four sizes so researchers can find the optimal tray to fit their gel or blot while minimizing the consumption of stains and buffers. The new opaque black trays are perfect for light-sensitive applications such as fluorescent gel staining\, fluorescent Western blotting\, and fluorescent immunohistochemistry experiments. The new transparent trays let researchers monitor colorimetric staining with ease\, and allow gels to be imaged in the tray. Like Advansta’s existing line of covered trays\, the new trays have smooth interiors that will not scratch or damage gels or blots and have attached lids to protect experiments from dust. The addition of these two new types of incubation trays strengthens Advansta’s offerings for protein characterization workflow.\nLearn more about Advansta's Incubation Trays here.\nAbout Advansta\nFounded in 2005 and headquartered in Menlo Park\, California\, Advansta Inc. provides a wide range of products and reagents to simplify\, accelerate and drive proteomic research.
URL:https://advansta.com/event/new-incubation-trays/
END:VEVENT
END:VCALENDAR