BEGIN:VCALENDAR
VERSION:2.0
PRODID:-//Advansta Inc. - ECPv4.0.2//NONSGML v1.0//EN
CALSCALE:GREGORIAN
METHOD:PUBLISH
X-WR-CALNAME:Advansta Inc.
X-ORIGINAL-URL:https://advansta.com
X-WR-CALDESC:Events for Advansta Inc.
BEGIN:VEVENT
DTSTART;TZID="America/Los_Angeles":20121010T080000
DTEND;TZID="America/Los_Angeles":20121010T170000
DTSTAMP:20260421T164137
CREATED:20121011T001655
LAST-MODIFIED:20150518T221113
UID:262-1349856000-1349888400@advansta.com
SUMMARY:AdvanStain Scarlet Protein Stain
DESCRIPTION:Advansta Introduces AdvanStain Scarlet™ Protein Stain\nA quantitative\, sensitive total protein stain for gels and blots\nMenlo Park\, CA\, October 10\, 2012 -- Advansta announces the release of AdvanStain Scarlet\, a new environmentally friendly\, fluorescent stain for the detection of proteins in gels and blots that combines sensitivity and quantitative ability with a fast protocol.\n\nAdvanStain Scarlet is based on epicocconone\, a small\, naturally occurring compound that only fluoresces when reversibly bound to protein via basic amino acids. The unbound dye does not fluoresce\, resulting in very low backgrounds and no speckling. AdvanStain Scarlet is sensitive\, allowing visualization of less than 1 ng of protein per band or spot. AdvanStain Scarlet also provides a large linear dynamic range for more accurate protein quantitation and reliable comparisons of protein amount between samples. The AdvanStain Scarlet protocol can be completed in 3 hours\, and stained gels or blots can be imaged under multiple imaging conditions including excitation with UV (302\, 365 nm)\, violet (405 nm) blue (488 nm)\, and green (543\, 532 nm) wavelengths\, using CCD or laser-based imaging systems. AdvanStain Scarlet is fully compatible with downstream applications including mass spectrometry.\nAbout Advansta\nFounded in 2005 and headquartered in Menlo Park\, California\, Advansta Inc is an evolving international company providing a wide range of products and reagents to simplify\, accelerate and improve life sciences
URL:https://advansta.com/event/advanstain-scarlet-protein-stain/
END:VEVENT
END:VCALENDAR